Package: infinityFlow Version: 1.17.0 Command: /home/biocbuild/bbs-3.21-bioc/R/bin/R CMD build --keep-empty-dirs --no-resave-data infinityFlow StartedAt: 2025-01-31 17:47:15 -0500 (Fri, 31 Jan 2025) EndedAt: 2025-01-31 17:50:38 -0500 (Fri, 31 Jan 2025) EllapsedTime: 203.2 seconds RetCode: 0 Status: OK PackageFile: infinityFlow_1.17.0.tar.gz PackageFileSize: 1.709 MiB