Package: infinityFlow Version: 1.17.0 Command: /Library/Frameworks/R.framework/Resources/bin/R CMD INSTALL infinityFlow StartedAt: 2025-01-31 15:16:57 -0500 (Fri, 31 Jan 2025) EndedAt: 2025-01-31 15:17:28 -0500 (Fri, 31 Jan 2025) EllapsedTime: 30.6 seconds RetCode: 0 Status: OK