Package: infinityFlow Version: 1.17.0 Command: rm -rf infinityFlow.buildbin-libdir && mkdir infinityFlow.buildbin-libdir && /Users/biocbuild/BBS/utils/build-universal.sh infinityFlow_1.17.0.tar.gz /Library/Frameworks/R.framework/Resources/bin/R infinityFlow.buildbin-libdir StartedAt: 2025-02-01 00:22:32 -0500 (Sat, 01 Feb 2025) EndedAt: 2025-02-01 00:23:06 -0500 (Sat, 01 Feb 2025) EllapsedTime: 33.5 seconds RetCode: 0 Status: OK PackageFile: infinityFlow_1.17.0.tgz PackageFileSize: 1.774 MiB