Package: infinityFlow Version: 1.17.0 Command: /Library/Frameworks/R.framework/Resources/bin/R CMD INSTALL infinityFlow StartedAt: 2025-01-31 15:05:46 -0500 (Fri, 31 Jan 2025) EndedAt: 2025-01-31 15:05:55 -0500 (Fri, 31 Jan 2025) EllapsedTime: 9.1 seconds RetCode: 0 Status: OK