Package: imcRtools Version: 1.13.0 Command: E:\biocbuild\bbs-3.21-bioc\R\bin\R.exe CMD check --no-multiarch --install=check:imcRtools.install-out.txt --library=E:\biocbuild\bbs-3.21-bioc\R\library --no-vignettes --timings imcRtools_1.13.0.tar.gz StartedAt: 2025-02-01 01:46:43 -0500 (Sat, 01 Feb 2025) EndedAt: 2025-02-01 02:12:23 -0500 (Sat, 01 Feb 2025) EllapsedTime: 1540.2 seconds RetCode: 0 Status: OK CheckDir: imcRtools.Rcheck Warnings: 0