Package: imcRtools Version: 1.13.0 Command: /Library/Frameworks/R.framework/Resources/bin/R CMD check --install=check:imcRtools.install-out.txt --library=/Library/Frameworks/R.framework/Resources/library --no-vignettes --timings imcRtools_1.13.0.tar.gz StartedAt: 2025-01-31 19:43:41 -0500 (Fri, 31 Jan 2025) EndedAt: 2025-01-31 19:49:18 -0500 (Fri, 31 Jan 2025) EllapsedTime: 336.9 seconds RetCode: 1 Status: ERROR CheckDir: imcRtools.Rcheck Warnings: NA