Package: imcRtools Version: 1.13.0 Command: /Library/Frameworks/R.framework/Resources/bin/R CMD build --keep-empty-dirs --no-resave-data imcRtools StartedAt: 2025-01-31 16:41:44 -0500 (Fri, 31 Jan 2025) EndedAt: 2025-01-31 16:42:54 -0500 (Fri, 31 Jan 2025) EllapsedTime: 70.7 seconds RetCode: 0 Status: OK PackageFile: imcRtools_1.13.0.tar.gz PackageFileSize: 6.773 MiB