Package: illuminaio Version: 0.49.0 Command: /Library/Frameworks/R.framework/Resources/bin/R CMD build --keep-empty-dirs --no-resave-data illuminaio StartedAt: 2025-01-31 17:04:12 -0500 (Fri, 31 Jan 2025) EndedAt: 2025-01-31 17:04:40 -0500 (Fri, 31 Jan 2025) EllapsedTime: 27.5 seconds RetCode: 0 Status: OK PackageFile: illuminaio_0.49.0.tar.gz PackageFileSize: 429.2 KiB