Package: illuminaio Version: 0.49.0 Command: rm -rf illuminaio.buildbin-libdir && mkdir illuminaio.buildbin-libdir && /Users/biocbuild/BBS/utils/build-universal.sh illuminaio_0.49.0.tar.gz /Library/Frameworks/R.framework/Resources/bin/R illuminaio.buildbin-libdir StartedAt: 2025-02-01 00:22:22 -0500 (Sat, 01 Feb 2025) EndedAt: 2025-02-01 00:22:32 -0500 (Sat, 01 Feb 2025) EllapsedTime: 10.5 seconds RetCode: 0 Status: OK PackageFile: illuminaio_0.49.0.tgz PackageFileSize: 448.5 KiB