Package: idpr Version: 1.17.0 Command: /Library/Frameworks/R.framework/Resources/bin/R CMD check --install=check:idpr.install-out.txt --library=/Library/Frameworks/R.framework/Resources/library --no-vignettes --timings idpr_1.17.0.tar.gz StartedAt: 2025-01-31 20:58:09 -0500 (Fri, 31 Jan 2025) EndedAt: 2025-01-31 20:59:09 -0500 (Fri, 31 Jan 2025) EllapsedTime: 59.1 seconds RetCode: 0 Status: OK CheckDir: idpr.Rcheck Warnings: 0