Package: idiogram Version: 1.83.0 Command: /home/biocbuild/bbs-3.21-bioc/R/bin/R CMD INSTALL idiogram StartedAt: 2025-01-31 15:24:32 -0500 (Fri, 31 Jan 2025) EndedAt: 2025-01-31 15:24:48 -0500 (Fri, 31 Jan 2025) EllapsedTime: 15.9 seconds RetCode: 0 Status: OK