Package: icetea Version: 1.25.0 Command: /home/biocbuild/R/R/bin/R CMD build --keep-empty-dirs --no-resave-data icetea StartedAt: 2025-01-28 23:40:46 -0000 (Tue, 28 Jan 2025) EndedAt: 2025-01-28 23:43:14 -0000 (Tue, 28 Jan 2025) EllapsedTime: 148.1 seconds RetCode: 0 Status: OK PackageFile: icetea_1.25.0.tar.gz PackageFileSize: 663 KiB