Package: icetea Version: 1.25.0 Command: /Library/Frameworks/R.framework/Resources/bin/R CMD build --keep-empty-dirs --no-resave-data icetea StartedAt: 2025-01-31 16:40:15 -0500 (Fri, 31 Jan 2025) EndedAt: 2025-01-31 16:40:56 -0500 (Fri, 31 Jan 2025) EllapsedTime: 41.4 seconds RetCode: 0 Status: OK PackageFile: icetea_1.25.0.tar.gz PackageFileSize: 796 KiB