Package: iSeq Version: 1.59.0 Command: /home/biocbuild/bbs-3.21-bioc/R/bin/R CMD check --install=check:iSeq.install-out.txt --library=/home/biocbuild/bbs-3.21-bioc/R/site-library --timings iSeq_1.59.0.tar.gz StartedAt: 2025-01-31 23:26:35 -0500 (Fri, 31 Jan 2025) EndedAt: 2025-01-31 23:27:17 -0500 (Fri, 31 Jan 2025) EllapsedTime: 42.1 seconds RetCode: 0 Status: OK CheckDir: iSeq.Rcheck Warnings: 0