Package: iSeq Version: 1.59.0 Command: /home/biocbuild/R/R/bin/R CMD INSTALL iSeq StartedAt: 2025-01-29 19:29:36 -0000 (Wed, 29 Jan 2025) EndedAt: 2025-01-29 19:29:47 -0000 (Wed, 29 Jan 2025) EllapsedTime: 10.5 seconds RetCode: 0 Status: OK