Package: iSeq Version: 1.59.0 Command: /home/biocbuild/R/R/bin/R CMD build --keep-empty-dirs --no-resave-data iSeq StartedAt: 2025-01-28 23:49:54 -0000 (Tue, 28 Jan 2025) EndedAt: 2025-01-28 23:50:20 -0000 (Tue, 28 Jan 2025) EllapsedTime: 26.0 seconds RetCode: 0 Status: OK PackageFile: iSeq_1.59.0.tar.gz PackageFileSize: 1.327 MiB