Package: iSeq Version: 1.59.0 Command: /Library/Frameworks/R.framework/Resources/bin/R CMD build --keep-empty-dirs --no-resave-data iSeq StartedAt: 2025-01-31 16:45:30 -0500 (Fri, 31 Jan 2025) EndedAt: 2025-01-31 16:45:41 -0500 (Fri, 31 Jan 2025) EllapsedTime: 11.1 seconds RetCode: 0 Status: OK PackageFile: iSeq_1.59.0.tar.gz PackageFileSize: 1.325 MiB