Package: iSEEindex Version: 1.5.0 Command: E:\biocbuild\bbs-3.21-bioc\R\bin\R.exe CMD check --no-multiarch --install=check:iSEEindex.install-out.txt --library=E:\biocbuild\bbs-3.21-bioc\R\library --no-vignettes --timings iSEEindex_1.5.0.tar.gz StartedAt: 2025-02-01 01:55:06 -0500 (Sat, 01 Feb 2025) EndedAt: 2025-02-01 01:59:48 -0500 (Sat, 01 Feb 2025) EllapsedTime: 282.6 seconds RetCode: 0 Status: OK CheckDir: iSEEindex.Rcheck Warnings: 0