Package: iSEEhub Version: 1.9.0 Command: /home/biocbuild/bbs-3.21-bioc/R/bin/R CMD INSTALL iSEEhub StartedAt: 2025-01-31 15:40:25 -0500 (Fri, 31 Jan 2025) EndedAt: 2025-01-31 15:40:59 -0500 (Fri, 31 Jan 2025) EllapsedTime: 34.2 seconds RetCode: 0 Status: OK