Package: iSEEhex Version: 1.9.0 Command: E:\biocbuild\bbs-3.21-bioc\R\bin\R.exe CMD INSTALL iSEEhex StartedAt: 2025-01-31 16:16:21 -0500 (Fri, 31 Jan 2025) EndedAt: 2025-01-31 16:16:59 -0500 (Fri, 31 Jan 2025) EllapsedTime: 38.7 seconds RetCode: 0 Status: OK