Package: iSEEfier Version: 1.3.0 Command: /home/biocbuild/R/R/bin/R CMD INSTALL iSEEfier StartedAt: 2025-01-29 20:14:11 -0000 (Wed, 29 Jan 2025) EndedAt: 2025-01-29 20:14:50 -0000 (Wed, 29 Jan 2025) EllapsedTime: 39.4 seconds RetCode: 0 Status: OK