Package: iSEE Version: 2.19.2 Command: rm -rf iSEE.buildbin-libdir && mkdir iSEE.buildbin-libdir && E:\biocbuild\bbs-3.21-bioc\R\bin\R.exe CMD INSTALL --build --library=iSEE.buildbin-libdir iSEE_2.19.2.tar.gz StartedAt: 2025-02-01 07:28:18 -0500 (Sat, 01 Feb 2025) EndedAt: 2025-02-01 07:31:31 -0500 (Sat, 01 Feb 2025) EllapsedTime: 192.4 seconds RetCode: 0 Status: OK PackageFile: iSEE_2.19.2.zip PackageFileSize: 22.47 MiB