Package: iSEE Version: 2.19.2 Command: /Library/Frameworks/R.framework/Resources/bin/R CMD check --install=check:iSEE.install-out.txt --library=/Library/Frameworks/R.framework/Resources/library --no-vignettes --timings iSEE_2.19.2.tar.gz StartedAt: 2025-01-31 19:47:42 -0500 (Fri, 31 Jan 2025) EndedAt: 2025-01-31 19:49:38 -0500 (Fri, 31 Jan 2025) EllapsedTime: 116.3 seconds RetCode: 0 Status: OK CheckDir: iSEE.Rcheck Warnings: 0