Package: iCARE Version: 1.35.0 Command: /home/biocbuild/bbs-3.21-bioc/R/bin/R CMD build --keep-empty-dirs --no-resave-data iCARE StartedAt: 2025-01-31 17:43:50 -0500 (Fri, 31 Jan 2025) EndedAt: 2025-01-31 17:47:30 -0500 (Fri, 31 Jan 2025) EllapsedTime: 220.4 seconds RetCode: 0 Status: OK PackageFile: iCARE_1.35.0.tar.gz PackageFileSize: 1.421 MiB