Package: iCARE Version: 1.35.0 Command: /Library/Frameworks/R.framework/Resources/bin/R CMD build --keep-empty-dirs --no-resave-data iCARE StartedAt: 2025-01-31 17:02:56 -0500 (Fri, 31 Jan 2025) EndedAt: 2025-01-31 17:06:24 -0500 (Fri, 31 Jan 2025) EllapsedTime: 207.8 seconds RetCode: 0 Status: OK PackageFile: iCARE_1.35.0.tar.gz PackageFileSize: 1.42 MiB