Package: hummingbird Version: 1.17.0 Command: /Library/Frameworks/R.framework/Resources/bin/R CMD INSTALL hummingbird StartedAt: 2025-01-31 15:04:48 -0500 (Fri, 31 Jan 2025) EndedAt: 2025-01-31 15:04:49 -0500 (Fri, 31 Jan 2025) EllapsedTime: 1.3 seconds RetCode: 1 Status: ERROR