Package: hopach Version: 2.67.0 Command: E:\biocbuild\bbs-3.21-bioc\R\bin\R.exe CMD check --no-multiarch --install=check:hopach.install-out.txt --library=E:\biocbuild\bbs-3.21-bioc\R\library --no-vignettes --timings hopach_2.67.0.tar.gz StartedAt: 2025-02-01 01:40:44 -0500 (Sat, 01 Feb 2025) EndedAt: 2025-02-01 01:42:00 -0500 (Sat, 01 Feb 2025) EllapsedTime: 76.1 seconds RetCode: 0 Status: OK CheckDir: hopach.Rcheck Warnings: 0