Package: hmdbQuery Version: 1.27.0 Command: rm -rf hmdbQuery.buildbin-libdir && mkdir hmdbQuery.buildbin-libdir && /Users/biocbuild/BBS/utils/build-universal.sh hmdbQuery_1.27.0.tar.gz /Library/Frameworks/R.framework/Resources/bin/R hmdbQuery.buildbin-libdir StartedAt: 2025-02-01 00:21:49 -0500 (Sat, 01 Feb 2025) EndedAt: 2025-02-01 00:22:00 -0500 (Sat, 01 Feb 2025) EllapsedTime: 10.4 seconds RetCode: 0 Status: OK PackageFile: hmdbQuery_1.27.0.tgz PackageFileSize: 887.2 KiB