Package: hmdbQuery Version: 1.27.0 Command: /home/biocbuild/R/R/bin/R CMD INSTALL hmdbQuery StartedAt: 2025-01-29 19:32:59 -0000 (Wed, 29 Jan 2025) EndedAt: 2025-01-29 19:33:27 -0000 (Wed, 29 Jan 2025) EllapsedTime: 28.1 seconds RetCode: 0 Status: OK