Package: hmdbQuery Version: 1.27.0 Command: /home/biocbuild/R/R/bin/R CMD build --keep-empty-dirs --no-resave-data hmdbQuery StartedAt: 2025-01-28 23:38:34 -0000 (Tue, 28 Jan 2025) EndedAt: 2025-01-28 23:39:33 -0000 (Tue, 28 Jan 2025) EllapsedTime: 59.0 seconds RetCode: 0 Status: OK PackageFile: hmdbQuery_1.27.0.tar.gz PackageFileSize: 776.3 KiB