Package: hipathia Version: 3.7.0 Command: rm -rf hipathia.buildbin-libdir && mkdir hipathia.buildbin-libdir && E:\biocbuild\bbs-3.21-bioc\R\bin\R.exe CMD INSTALL --build --library=hipathia.buildbin-libdir hipathia_3.7.0.tar.gz StartedAt: 2025-02-01 07:24:42 -0500 (Sat, 01 Feb 2025) EndedAt: 2025-02-01 07:28:07 -0500 (Sat, 01 Feb 2025) EllapsedTime: 204.5 seconds RetCode: 0 Status: OK PackageFile: hipathia_3.7.0.zip PackageFileSize: 7.657 MiB