Package: hierGWAS Version: 1.37.0 Command: /Library/Frameworks/R.framework/Resources/bin/R CMD build --keep-empty-dirs --no-resave-data hierGWAS StartedAt: 2025-01-31 16:38:23 -0500 (Fri, 31 Jan 2025) EndedAt: 2025-01-31 16:39:19 -0500 (Fri, 31 Jan 2025) EllapsedTime: 56.6 seconds RetCode: 0 Status: OK PackageFile: hierGWAS_1.37.0.tar.gz PackageFileSize: 566.7 KiB