Package: hiReadsProcessor Version: 1.43.0 Command: /home/biocbuild/bbs-3.21-bioc/R/bin/R CMD build --keep-empty-dirs --no-resave-data hiReadsProcessor StartedAt: 2025-02-02 17:36:21 -0500 (Sun, 02 Feb 2025) EndedAt: 2025-02-02 17:37:19 -0500 (Sun, 02 Feb 2025) EllapsedTime: 58.1 seconds RetCode: 0 Status: OK PackageFile: hiReadsProcessor_1.43.0.tar.gz PackageFileSize: 3.147 MiB