Package: hiReadsProcessor Version: 1.43.0 Command: /Library/Frameworks/R.framework/Resources/bin/R CMD check --install=check:hiReadsProcessor.install-out.txt --library=/Library/Frameworks/R.framework/Resources/library --no-vignettes --timings hiReadsProcessor_1.43.0.tar.gz StartedAt: 2025-01-31 20:54:08 -0500 (Fri, 31 Jan 2025) EndedAt: 2025-01-31 20:59:04 -0500 (Fri, 31 Jan 2025) EllapsedTime: 295.6 seconds RetCode: 0 Status: OK CheckDir: hiReadsProcessor.Rcheck Warnings: 0