Package: hiAnnotator Version: 1.41.0 Command: chmod a+r hiAnnotator -R && E:\biocbuild\bbs-3.21-bioc\R\bin\R.exe CMD build --keep-empty-dirs --no-resave-data hiAnnotator StartedAt: 2025-01-31 19:02:18 -0500 (Fri, 31 Jan 2025) EndedAt: 2025-01-31 19:04:03 -0500 (Fri, 31 Jan 2025) EllapsedTime: 105.2 seconds RetCode: 0 Status: OK PackageFile: hiAnnotator_1.41.0.tar.gz PackageFileSize: 689.4 KiB