Package: hiAnnotator Version: 1.41.0 Command: /Library/Frameworks/R.framework/Resources/bin/R CMD build --keep-empty-dirs --no-resave-data hiAnnotator StartedAt: 2025-01-31 16:59:15 -0500 (Fri, 31 Jan 2025) EndedAt: 2025-01-31 17:00:18 -0500 (Fri, 31 Jan 2025) EllapsedTime: 63.8 seconds RetCode: 0 Status: OK PackageFile: hiAnnotator_1.41.0.tar.gz PackageFileSize: 733.3 KiB