Package: gwascat Version: 2.39.0 Command: /Library/Frameworks/R.framework/Resources/bin/R CMD INSTALL gwascat StartedAt: 2025-01-31 15:38:54 -0500 (Fri, 31 Jan 2025) EndedAt: 2025-01-31 15:40:08 -0500 (Fri, 31 Jan 2025) EllapsedTime: 73.5 seconds RetCode: 0 Status: OK