Package: gwascat Version: 2.39.0 Command: /Library/Frameworks/R.framework/Resources/bin/R CMD build --keep-empty-dirs --no-resave-data gwascat StartedAt: 2025-01-31 16:56:45 -0500 (Fri, 31 Jan 2025) EndedAt: 2025-01-31 17:05:20 -0500 (Fri, 31 Jan 2025) EllapsedTime: 514.9 seconds RetCode: 0 Status: OK PackageFile: gwascat_2.39.0.tar.gz PackageFileSize: 33.78 MiB