Package: groHMM Version: 1.41.0 Command: /home/biocbuild/bbs-3.21-bioc/R/bin/R CMD build --keep-empty-dirs --no-resave-data groHMM StartedAt: 2025-01-31 17:33:56 -0500 (Fri, 31 Jan 2025) EndedAt: 2025-01-31 17:33:58 -0500 (Fri, 31 Jan 2025) EllapsedTime: 2.0 seconds RetCode: 1 Status: ERROR PackageFile: None PackageFileSize: NA