Package: graph Version: 1.85.1 Command: /Library/Frameworks/R.framework/Resources/bin/R CMD check --install=check:graph.install-out.txt --library=/Library/Frameworks/R.framework/Resources/library --no-vignettes --timings graph_1.85.1.tar.gz StartedAt: 2025-01-31 20:44:47 -0500 (Fri, 31 Jan 2025) EndedAt: 2025-01-31 20:45:50 -0500 (Fri, 31 Jan 2025) EllapsedTime: 62.9 seconds RetCode: 1 Status: ERROR CheckDir: graph.Rcheck Warnings: NA