Package: gpls Version: 1.79.0 Command: E:\biocbuild\bbs-3.21-bioc\R\bin\R.exe CMD INSTALL gpls StartedAt: 2025-01-31 15:18:02 -0500 (Fri, 31 Jan 2025) EndedAt: 2025-01-31 15:18:10 -0500 (Fri, 31 Jan 2025) EllapsedTime: 8.8 seconds RetCode: 0 Status: OK