Package: gmoviz Version: 1.19.0 Command: E:\biocbuild\bbs-3.21-bioc\R\bin\R.exe CMD INSTALL gmoviz StartedAt: 2025-01-31 16:01:02 -0500 (Fri, 31 Jan 2025) EndedAt: 2025-01-31 16:01:50 -0500 (Fri, 31 Jan 2025) EllapsedTime: 47.8 seconds RetCode: 0 Status: OK