Package: gmoviz Version: 1.19.0 Command: /home/biocbuild/bbs-3.21-bioc/R/bin/R CMD INSTALL gmoviz StartedAt: 2025-01-31 15:33:55 -0500 (Fri, 31 Jan 2025) EndedAt: 2025-01-31 15:34:32 -0500 (Fri, 31 Jan 2025) EllapsedTime: 36.8 seconds RetCode: 0 Status: OK