Package: gmoviz Version: 1.19.0 Command: /home/biocbuild/bbs-3.21-bioc/R/bin/R CMD build --keep-empty-dirs --no-resave-data gmoviz StartedAt: 2025-01-31 17:30:07 -0500 (Fri, 31 Jan 2025) EndedAt: 2025-01-31 17:31:52 -0500 (Fri, 31 Jan 2025) EllapsedTime: 105.1 seconds RetCode: 0 Status: OK PackageFile: gmoviz_1.19.0.tar.gz PackageFileSize: 4.277 MiB