Package: gmapR Version: 1.49.0 Command: /home/biocbuild/bbs-3.21-bioc/R/bin/R CMD check --install=check:gmapR.install-out.txt --library=/home/biocbuild/bbs-3.21-bioc/R/site-library --timings gmapR_1.49.0.tar.gz StartedAt: 2025-01-31 22:47:56 -0500 (Fri, 31 Jan 2025) EndedAt: 2025-01-31 22:55:13 -0500 (Fri, 31 Jan 2025) EllapsedTime: 436.6 seconds RetCode: 0 Status: WARNINGS CheckDir: gmapR.Rcheck Warnings: 7