Package: gmapR Version: 1.49.0 Command: /home/biocbuild/R/R/bin/R CMD build --keep-empty-dirs --no-resave-data gmapR StartedAt: 2025-01-28 23:15:24 -0000 (Tue, 28 Jan 2025) EndedAt: 2025-01-28 23:15:36 -0000 (Tue, 28 Jan 2025) EllapsedTime: 12.0 seconds RetCode: 1 Status: ERROR PackageFile: None PackageFileSize: NA