Package: girafe Version: 1.59.1 Command: E:\biocbuild\bbs-3.21-bioc\R\bin\R.exe CMD INSTALL girafe StartedAt: 2025-01-31 16:19:58 -0500 (Fri, 31 Jan 2025) EndedAt: 2025-01-31 16:20:01 -0500 (Fri, 31 Jan 2025) EllapsedTime: 3.1 seconds RetCode: 1 Status: ERROR