Package: ginmappeR Version: 1.3.3 Command: /home/biocbuild/R/R/bin/R CMD INSTALL ginmappeR StartedAt: 2025-01-29 19:52:54 -0000 (Wed, 29 Jan 2025) EndedAt: 2025-01-29 19:53:16 -0000 (Wed, 29 Jan 2025) EllapsedTime: 21.5 seconds RetCode: 0 Status: OK