Package: ginmappeR Version: 1.3.3 Command: /home/biocbuild/R/R/bin/R CMD check --install=check:ginmappeR.install-out.txt --library=/home/biocbuild/R/R/site-library --no-vignettes --timings ginmappeR_1.3.3.tar.gz StartedAt: 2025-01-28 11:07:56 -0000 (Tue, 28 Jan 2025) EndedAt: 2025-01-28 11:20:48 -0000 (Tue, 28 Jan 2025) EllapsedTime: 771.5 seconds RetCode: 0 Status: OK CheckDir: ginmappeR.Rcheck Warnings: 0