Package: ginmappeR Version: 1.3.3 Command: /Library/Frameworks/R.framework/Resources/bin/R CMD INSTALL ginmappeR StartedAt: 2025-01-31 15:09:48 -0500 (Fri, 31 Jan 2025) EndedAt: 2025-01-31 15:09:54 -0500 (Fri, 31 Jan 2025) EllapsedTime: 6.3 seconds RetCode: 0 Status: OK